BEGIN:VCALENDAR
VERSION:2.0
PRODID:-//TIKI BAR - ECPv6.15.17.1//NONSGML v1.0//EN
CALSCALE:GREGORIAN
METHOD:PUBLISH
X-WR-CALNAME:TIKI BAR
X-ORIGINAL-URL:https://tikibaroc.com
X-WR-CALDESC:Events for TIKI BAR
REFRESH-INTERVAL;VALUE=DURATION:PT1H
X-Robots-Tag:noindex
X-PUBLISHED-TTL:PT1H
BEGIN:VTIMEZONE
TZID:America/Los_Angeles
BEGIN:DAYLIGHT
TZOFFSETFROM:-0800
TZOFFSETTO:-0700
TZNAME:PDT
DTSTART:20110313T100000
END:DAYLIGHT
BEGIN:STANDARD
TZOFFSETFROM:-0700
TZOFFSETTO:-0800
TZNAME:PST
DTSTART:20111106T090000
END:STANDARD
BEGIN:DAYLIGHT
TZOFFSETFROM:-0800
TZOFFSETTO:-0700
TZNAME:PDT
DTSTART:20120311T100000
END:DAYLIGHT
BEGIN:STANDARD
TZOFFSETFROM:-0700
TZOFFSETTO:-0800
TZNAME:PST
DTSTART:20121104T090000
END:STANDARD
BEGIN:DAYLIGHT
TZOFFSETFROM:-0800
TZOFFSETTO:-0700
TZNAME:PDT
DTSTART:20130310T100000
END:DAYLIGHT
BEGIN:STANDARD
TZOFFSETFROM:-0700
TZOFFSETTO:-0800
TZNAME:PST
DTSTART:20131103T090000
END:STANDARD
END:VTIMEZONE
BEGIN:VEVENT
DTSTART;TZID=America/Los_Angeles:20120807T200000
DTEND;TZID=America/Los_Angeles:20120807T200000
DTSTAMP:20260419T205818
CREATED:20170519T105528Z
LAST-MODIFIED:20170519T105528Z
UID:3572-1344369600-1344369600@tikibaroc.com
SUMMARY:Mighty Majestics
DESCRIPTION:Located just minutes from Triangle Square is the Tiki Bar\, a historic Costa Mesa joint that doubles as a music venue. The building is divided into three spacious sections which include a stage\, bar area with two pool tables and a smoking patio. The performance room sees an eclectic mix of rock\, reggae\, punk\, country & western on any given night.
URL:https://tikibaroc.com/event/mighty-majestics-4/
LOCATION:Tiki Bar\, 1700 Placentia Ave\, Costa Mesa\, CA\, 92627\, United States
ATTACH;FMTTYPE=image/jpeg:https://tikibaroc.com/wp-content/uploads/2017/05/tiki-bar-event-default-image.jpg
ORGANIZER;CN="Tiki Bar":MAILTO:tikibooking@hotmail.com
END:VEVENT
BEGIN:VEVENT
DTSTART;TZID=America/Los_Angeles:20120804T200000
DTEND;TZID=America/Los_Angeles:20120804T200000
DTSTAMP:20260419T205818
CREATED:20170519T105529Z
LAST-MODIFIED:20170519T105529Z
UID:3573-1344110400-1344110400@tikibaroc.com
SUMMARY:Cerebellion
DESCRIPTION:Located just minutes from Triangle Square is the Tiki Bar\, a historic Costa Mesa joint that doubles as a music venue. The building is divided into three spacious sections which include a stage\, bar area with two pool tables and a smoking patio. The performance room sees an eclectic mix of rock\, reggae\, punk\, country & western on any given night.
URL:https://tikibaroc.com/event/cerebellion/
LOCATION:Tiki Bar\, 1700 Placentia Ave\, Costa Mesa\, CA\, 92627\, United States
ATTACH;FMTTYPE=image/jpeg:https://tikibaroc.com/wp-content/uploads/2017/05/tiki-bar-event-default-image.jpg
ORGANIZER;CN="Tiki Bar":MAILTO:tikibooking@hotmail.com
END:VEVENT
BEGIN:VEVENT
DTSTART;TZID=America/Los_Angeles:20120803T200000
DTEND;TZID=America/Los_Angeles:20120803T200000
DTSTAMP:20260419T205818
CREATED:20170519T105529Z
LAST-MODIFIED:20170519T105529Z
UID:3574-1344024000-1344024000@tikibaroc.com
SUMMARY:Acropolis RPM Chise
DESCRIPTION:Located just minutes from Triangle Square is the Tiki Bar\, a historic Costa Mesa joint that doubles as a music venue. The building is divided into three spacious sections which include a stage\, bar area with two pool tables and a smoking patio. The performance room sees an eclectic mix of rock\, reggae\, punk\, country & western on any given night.
URL:https://tikibaroc.com/event/acropolis-rpm-chise/
LOCATION:Tiki Bar\, 1700 Placentia Ave\, Costa Mesa\, CA\, 92627\, United States
ATTACH;FMTTYPE=image/jpeg:https://tikibaroc.com/wp-content/uploads/2017/05/tiki-bar-event-default-image.jpg
ORGANIZER;CN="Tiki Bar":MAILTO:tikibooking@hotmail.com
END:VEVENT
BEGIN:VEVENT
DTSTART;TZID=America/Los_Angeles:20120802T200000
DTEND;TZID=America/Los_Angeles:20120802T200000
DTSTAMP:20260419T205818
CREATED:20170519T105530Z
LAST-MODIFIED:20170519T105530Z
UID:3575-1343937600-1343937600@tikibaroc.com
SUMMARY:DreadnoDread
DESCRIPTION:Located just minutes from Triangle Square is the Tiki Bar\, a historic Costa Mesa joint that doubles as a music venue. The building is divided into three spacious sections which include a stage\, bar area with two pool tables and a smoking patio. The performance room sees an eclectic mix of rock\, reggae\, punk\, country & western on any given night.
URL:https://tikibaroc.com/event/dreadnodread/
LOCATION:Tiki Bar\, 1700 Placentia Ave\, Costa Mesa\, CA\, 92627\, United States
ATTACH;FMTTYPE=image/jpeg:https://tikibaroc.com/wp-content/uploads/2017/05/tiki-bar-event-default-image.jpg
ORGANIZER;CN="Tiki Bar":MAILTO:tikibooking@hotmail.com
END:VEVENT
BEGIN:VEVENT
DTSTART;TZID=America/Los_Angeles:20120731T200000
DTEND;TZID=America/Los_Angeles:20120731T200000
DTSTAMP:20260419T205818
CREATED:20170519T105530Z
LAST-MODIFIED:20170519T105530Z
UID:3576-1343764800-1343764800@tikibaroc.com
SUMMARY:Sahtyre Skeem Price
DESCRIPTION:Located just minutes from Triangle Square is the Tiki Bar\, a historic Costa Mesa joint that doubles as a music venue. The building is divided into three spacious sections which include a stage\, bar area with two pool tables and a smoking patio. The performance room sees an eclectic mix of rock\, reggae\, punk\, country & western on any given night.
URL:https://tikibaroc.com/event/sahtyre-skeem-price/
LOCATION:Tiki Bar\, 1700 Placentia Ave\, Costa Mesa\, CA\, 92627\, United States
ATTACH;FMTTYPE=image/jpeg:https://tikibaroc.com/wp-content/uploads/2017/05/tiki-bar-event-default-image.jpg
ORGANIZER;CN="Tiki Bar":MAILTO:tikibooking@hotmail.com
END:VEVENT
BEGIN:VEVENT
DTSTART;TZID=America/Los_Angeles:20120729T140000
DTEND;TZID=America/Los_Angeles:20120729T140000
DTSTAMP:20260419T205818
CREATED:20170519T105533Z
LAST-MODIFIED:20170519T105533Z
UID:3577-1343570400-1343570400@tikibaroc.com
SUMMARY:World Class Blues Jr Watson
DESCRIPTION:Located just minutes from Triangle Square is the Tiki Bar\, a historic Costa Mesa joint that doubles as a music venue. The building is divided into three spacious sections which include a stage\, bar area with two pool tables and a smoking patio. The performance room sees an eclectic mix of rock\, reggae\, punk\, country & western on any given night.
URL:https://tikibaroc.com/event/world-class-blues-jr-watson/
LOCATION:Tiki Bar\, 1700 Placentia Ave\, Costa Mesa\, CA\, 92627\, United States
ATTACH;FMTTYPE=image/jpeg:https://tikibaroc.com/wp-content/uploads/2017/05/tiki-bar-event-default-image.jpg
ORGANIZER;CN="Tiki Bar":MAILTO:tikibooking@hotmail.com
END:VEVENT
BEGIN:VEVENT
DTSTART;TZID=America/Los_Angeles:20120728T200000
DTEND;TZID=America/Los_Angeles:20120728T200000
DTSTAMP:20260419T205818
CREATED:20170519T105533Z
LAST-MODIFIED:20170519T105533Z
UID:3578-1343505600-1343505600@tikibaroc.com
SUMMARY:Cadillac Tramps Dodge Dart
DESCRIPTION:Located just minutes from Triangle Square is the Tiki Bar\, a historic Costa Mesa joint that doubles as a music venue. The building is divided into three spacious sections which include a stage\, bar area with two pool tables and a smoking patio. The performance room sees an eclectic mix of rock\, reggae\, punk\, country & western on any given night.
URL:https://tikibaroc.com/event/cadillac-tramps-dodge-dart/
LOCATION:Tiki Bar\, 1700 Placentia Ave\, Costa Mesa\, CA\, 92627\, United States
ATTACH;FMTTYPE=image/jpeg:https://tikibaroc.com/wp-content/uploads/2017/05/tiki-bar-event-default-image.jpg
ORGANIZER;CN="Tiki Bar":MAILTO:tikibooking@hotmail.com
END:VEVENT
BEGIN:VEVENT
DTSTART;TZID=America/Los_Angeles:20120727T200000
DTEND;TZID=America/Los_Angeles:20120727T200000
DTSTAMP:20260419T205818
CREATED:20170519T105534Z
LAST-MODIFIED:20170519T105534Z
UID:3579-1343419200-1343419200@tikibaroc.com
SUMMARY:Funk Freaks
DESCRIPTION:Located just minutes from Triangle Square is the Tiki Bar\, a historic Costa Mesa joint that doubles as a music venue. The building is divided into three spacious sections which include a stage\, bar area with two pool tables and a smoking patio. The performance room sees an eclectic mix of rock\, reggae\, punk\, country & western on any given night.
URL:https://tikibaroc.com/event/funk-freaks-3/
LOCATION:Tiki Bar\, 1700 Placentia Ave\, Costa Mesa\, CA\, 92627\, United States
ATTACH;FMTTYPE=image/jpeg:https://tikibaroc.com/wp-content/uploads/2017/05/tiki-bar-event-default-image.jpg
ORGANIZER;CN="Tiki Bar":MAILTO:tikibooking@hotmail.com
END:VEVENT
BEGIN:VEVENT
DTSTART;TZID=America/Los_Angeles:20120726T200000
DTEND;TZID=America/Los_Angeles:20120726T200000
DTSTAMP:20260419T205819
CREATED:20170519T105534Z
LAST-MODIFIED:20170519T105534Z
UID:3580-1343332800-1343332800@tikibaroc.com
SUMMARY:Heavy Glow Silent War
DESCRIPTION:Located just minutes from Triangle Square is the Tiki Bar\, a historic Costa Mesa joint that doubles as a music venue. The building is divided into three spacious sections which include a stage\, bar area with two pool tables and a smoking patio. The performance room sees an eclectic mix of rock\, reggae\, punk\, country & western on any given night.
URL:https://tikibaroc.com/event/heavy-glow-silent-war/
LOCATION:Tiki Bar\, 1700 Placentia Ave\, Costa Mesa\, CA\, 92627\, United States
ATTACH;FMTTYPE=image/jpeg:https://tikibaroc.com/wp-content/uploads/2017/05/tiki-bar-event-default-image.jpg
ORGANIZER;CN="Tiki Bar":MAILTO:tikibooking@hotmail.com
END:VEVENT
BEGIN:VEVENT
DTSTART;TZID=America/Los_Angeles:20120724T200000
DTEND;TZID=America/Los_Angeles:20120724T200000
DTSTAMP:20260419T205819
CREATED:20170519T105535Z
LAST-MODIFIED:20170519T105535Z
UID:3581-1343160000-1343160000@tikibaroc.com
SUMMARY:Hip Hop night
DESCRIPTION:Located just minutes from Triangle Square is the Tiki Bar\, a historic Costa Mesa joint that doubles as a music venue. The building is divided into three spacious sections which include a stage\, bar area with two pool tables and a smoking patio. The performance room sees an eclectic mix of rock\, reggae\, punk\, country & western on any given night.
URL:https://tikibaroc.com/event/hip-hop-night/
LOCATION:Tiki Bar\, 1700 Placentia Ave\, Costa Mesa\, CA\, 92627\, United States
ATTACH;FMTTYPE=image/jpeg:https://tikibaroc.com/wp-content/uploads/2017/05/tiki-bar-event-default-image.jpg
ORGANIZER;CN="Tiki Bar":MAILTO:tikibooking@hotmail.com
END:VEVENT
BEGIN:VEVENT
DTSTART;TZID=America/Los_Angeles:20120721T200000
DTEND;TZID=America/Los_Angeles:20120721T200000
DTSTAMP:20260419T205819
CREATED:20170519T105536Z
LAST-MODIFIED:20170519T105536Z
UID:3582-1342900800-1342900800@tikibaroc.com
SUMMARY:The Iron Maidens
DESCRIPTION:Located just minutes from Triangle Square is the Tiki Bar\, a historic Costa Mesa joint that doubles as a music venue. The building is divided into three spacious sections which include a stage\, bar area with two pool tables and a smoking patio. The performance room sees an eclectic mix of rock\, reggae\, punk\, country & western on any given night.
URL:https://tikibaroc.com/event/the-iron-maidens-2/
LOCATION:Tiki Bar\, 1700 Placentia Ave\, Costa Mesa\, CA\, 92627\, United States
ATTACH;FMTTYPE=image/jpeg:https://tikibaroc.com/wp-content/uploads/2017/05/tiki-bar-event-default-image.jpg
ORGANIZER;CN="Tiki Bar":MAILTO:tikibooking@hotmail.com
END:VEVENT
BEGIN:VEVENT
DTSTART;TZID=America/Los_Angeles:20120720T200000
DTEND;TZID=America/Los_Angeles:20120720T200000
DTSTAMP:20260419T205819
CREATED:20170519T105537Z
LAST-MODIFIED:20170519T105537Z
UID:3583-1342814400-1342814400@tikibaroc.com
SUMMARY:Macarone Calandra
DESCRIPTION:Located just minutes from Triangle Square is the Tiki Bar\, a historic Costa Mesa joint that doubles as a music venue. The building is divided into three spacious sections which include a stage\, bar area with two pool tables and a smoking patio. The performance room sees an eclectic mix of rock\, reggae\, punk\, country & western on any given night.
URL:https://tikibaroc.com/event/macarone-calandra/
LOCATION:Tiki Bar\, 1700 Placentia Ave\, Costa Mesa\, CA\, 92627\, United States
ATTACH;FMTTYPE=image/jpeg:https://tikibaroc.com/wp-content/uploads/2017/05/tiki-bar-event-default-image.jpg
ORGANIZER;CN="Tiki Bar":MAILTO:tikibooking@hotmail.com
END:VEVENT
BEGIN:VEVENT
DTSTART;TZID=America/Los_Angeles:20120719T200000
DTEND;TZID=America/Los_Angeles:20120719T200000
DTSTAMP:20260419T205819
CREATED:20170519T105537Z
LAST-MODIFIED:20170519T105537Z
UID:3584-1342728000-1342728000@tikibaroc.com
SUMMARY:Dryspell Pre humanity
DESCRIPTION:Located just minutes from Triangle Square is the Tiki Bar\, a historic Costa Mesa joint that doubles as a music venue. The building is divided into three spacious sections which include a stage\, bar area with two pool tables and a smoking patio. The performance room sees an eclectic mix of rock\, reggae\, punk\, country & western on any given night.
URL:https://tikibaroc.com/event/dryspell-pre-humanity/
LOCATION:Tiki Bar\, 1700 Placentia Ave\, Costa Mesa\, CA\, 92627\, United States
ATTACH;FMTTYPE=image/jpeg:https://tikibaroc.com/wp-content/uploads/2017/05/tiki-bar-event-default-image.jpg
ORGANIZER;CN="Tiki Bar":MAILTO:tikibooking@hotmail.com
END:VEVENT
BEGIN:VEVENT
DTSTART;TZID=America/Los_Angeles:20120717T200000
DTEND;TZID=America/Los_Angeles:20120717T200000
DTSTAMP:20260419T205819
CREATED:20170519T105538Z
LAST-MODIFIED:20170519T105538Z
UID:3585-1342555200-1342555200@tikibaroc.com
SUMMARY:The Bluffs
DESCRIPTION:Located just minutes from Triangle Square is the Tiki Bar\, a historic Costa Mesa joint that doubles as a music venue. The building is divided into three spacious sections which include a stage\, bar area with two pool tables and a smoking patio. The performance room sees an eclectic mix of rock\, reggae\, punk\, country & western on any given night.
URL:https://tikibaroc.com/event/the-bluffs/
LOCATION:Tiki Bar\, 1700 Placentia Ave\, Costa Mesa\, CA\, 92627\, United States
ATTACH;FMTTYPE=image/jpeg:https://tikibaroc.com/wp-content/uploads/2017/05/tiki-bar-event-default-image.jpg
ORGANIZER;CN="Tiki Bar":MAILTO:tikibooking@hotmail.com
END:VEVENT
BEGIN:VEVENT
DTSTART;TZID=America/Los_Angeles:20120714T200000
DTEND;TZID=America/Los_Angeles:20120714T200000
DTSTAMP:20260419T205819
CREATED:20170519T105538Z
LAST-MODIFIED:20170519T105538Z
UID:3586-1342296000-1342296000@tikibaroc.com
SUMMARY:Jack Grisham
DESCRIPTION:Located just minutes from Triangle Square is the Tiki Bar\, a historic Costa Mesa joint that doubles as a music venue. The building is divided into three spacious sections which include a stage\, bar area with two pool tables and a smoking patio. The performance room sees an eclectic mix of rock\, reggae\, punk\, country & western on any given night.
URL:https://tikibaroc.com/event/jack-grisham/
LOCATION:Tiki Bar\, 1700 Placentia Ave\, Costa Mesa\, CA\, 92627\, United States
ATTACH;FMTTYPE=image/jpeg:https://tikibaroc.com/wp-content/uploads/2017/05/tiki-bar-event-default-image.jpg
ORGANIZER;CN="Tiki Bar":MAILTO:tikibooking@hotmail.com
END:VEVENT
BEGIN:VEVENT
DTSTART;TZID=America/Los_Angeles:20120713T200000
DTEND;TZID=America/Los_Angeles:20120713T200000
DTSTAMP:20260419T205819
CREATED:20170519T105540Z
LAST-MODIFIED:20170519T105540Z
UID:3587-1342209600-1342209600@tikibaroc.com
SUMMARY:Wilson Bread Kushaholiks
DESCRIPTION:Located just minutes from Triangle Square is the Tiki Bar\, a historic Costa Mesa joint that doubles as a music venue. The building is divided into three spacious sections which include a stage\, bar area with two pool tables and a smoking patio. The performance room sees an eclectic mix of rock\, reggae\, punk\, country & western on any given night.
URL:https://tikibaroc.com/event/wilson-bread-kushaholiks/
LOCATION:Tiki Bar\, 1700 Placentia Ave\, Costa Mesa\, CA\, 92627\, United States
ATTACH;FMTTYPE=image/jpeg:https://tikibaroc.com/wp-content/uploads/2017/05/tiki-bar-event-default-image.jpg
ORGANIZER;CN="Tiki Bar":MAILTO:tikibooking@hotmail.com
END:VEVENT
BEGIN:VEVENT
DTSTART;TZID=America/Los_Angeles:20120712T200000
DTEND;TZID=America/Los_Angeles:20120712T200000
DTSTAMP:20260419T205819
CREATED:20170519T105540Z
LAST-MODIFIED:20170519T105540Z
UID:3588-1342123200-1342123200@tikibaroc.com
SUMMARY:Keep Records Showcase
DESCRIPTION:Located just minutes from Triangle Square is the Tiki Bar\, a historic Costa Mesa joint that doubles as a music venue. The building is divided into three spacious sections which include a stage\, bar area with two pool tables and a smoking patio. The performance room sees an eclectic mix of rock\, reggae\, punk\, country & western on any given night.
URL:https://tikibaroc.com/event/keep-records-showcase-3/
LOCATION:Tiki Bar\, 1700 Placentia Ave\, Costa Mesa\, CA\, 92627\, United States
ATTACH;FMTTYPE=image/jpeg:https://tikibaroc.com/wp-content/uploads/2017/05/tiki-bar-event-default-image.jpg
ORGANIZER;CN="Tiki Bar":MAILTO:tikibooking@hotmail.com
END:VEVENT
BEGIN:VEVENT
DTSTART;TZID=America/Los_Angeles:20120710T200000
DTEND;TZID=America/Los_Angeles:20120710T200000
DTSTAMP:20260419T205819
CREATED:20170519T105541Z
LAST-MODIFIED:20170519T105541Z
UID:3589-1341950400-1341950400@tikibaroc.com
SUMMARY:T N T
DESCRIPTION:Located just minutes from Triangle Square is the Tiki Bar\, a historic Costa Mesa joint that doubles as a music venue. The building is divided into three spacious sections which include a stage\, bar area with two pool tables and a smoking patio. The performance room sees an eclectic mix of rock\, reggae\, punk\, country & western on any given night.
URL:https://tikibaroc.com/event/t-n-t/
LOCATION:Tiki Bar\, 1700 Placentia Ave\, Costa Mesa\, CA\, 92627\, United States
ATTACH;FMTTYPE=image/jpeg:https://tikibaroc.com/wp-content/uploads/2017/05/tiki-bar-event-default-image.jpg
ORGANIZER;CN="Tiki Bar":MAILTO:tikibooking@hotmail.com
END:VEVENT
BEGIN:VEVENT
DTSTART;TZID=America/Los_Angeles:20120707T200000
DTEND;TZID=America/Los_Angeles:20120707T200000
DTSTAMP:20260419T205819
CREATED:20170519T105542Z
LAST-MODIFIED:20170519T105542Z
UID:3590-1341691200-1341691200@tikibaroc.com
SUMMARY:Satisfaction
DESCRIPTION:Located just minutes from Triangle Square is the Tiki Bar\, a historic Costa Mesa joint that doubles as a music venue. The building is divided into three spacious sections which include a stage\, bar area with two pool tables and a smoking patio. The performance room sees an eclectic mix of rock\, reggae\, punk\, country & western on any given night.
URL:https://tikibaroc.com/event/satisfaction-10/
LOCATION:Tiki Bar\, 1700 Placentia Ave\, Costa Mesa\, CA\, 92627\, United States
ATTACH;FMTTYPE=image/jpeg:https://tikibaroc.com/wp-content/uploads/2017/05/tiki-bar-event-default-image.jpg
ORGANIZER;CN="Tiki Bar":MAILTO:tikibooking@hotmail.com
END:VEVENT
BEGIN:VEVENT
DTSTART;TZID=America/Los_Angeles:20120706T200000
DTEND;TZID=America/Los_Angeles:20120706T200000
DTSTAMP:20260419T205819
CREATED:20170519T105542Z
LAST-MODIFIED:20170519T105542Z
UID:3591-1341604800-1341604800@tikibaroc.com
SUMMARY:Bob Marleys Summa Bash Party
DESCRIPTION:Located just minutes from Triangle Square is the Tiki Bar\, a historic Costa Mesa joint that doubles as a music venue. The building is divided into three spacious sections which include a stage\, bar area with two pool tables and a smoking patio. The performance room sees an eclectic mix of rock\, reggae\, punk\, country & western on any given night.
URL:https://tikibaroc.com/event/bob-marleys-summa-bash-party/
LOCATION:Tiki Bar\, 1700 Placentia Ave\, Costa Mesa\, CA\, 92627\, United States
ATTACH;FMTTYPE=image/jpeg:https://tikibaroc.com/wp-content/uploads/2017/05/tiki-bar-event-default-image.jpg
ORGANIZER;CN="Tiki Bar":MAILTO:tikibooking@hotmail.com
END:VEVENT
BEGIN:VEVENT
DTSTART;TZID=America/Los_Angeles:20120701T180000
DTEND;TZID=America/Los_Angeles:20120701T180000
DTSTAMP:20260419T205819
CREATED:20170519T105544Z
LAST-MODIFIED:20170519T105544Z
UID:3592-1341165600-1341165600@tikibaroc.com
SUMMARY:BUSHMAN
DESCRIPTION:Located just minutes from Triangle Square is the Tiki Bar\, a historic Costa Mesa joint that doubles as a music venue. The building is divided into three spacious sections which include a stage\, bar area with two pool tables and a smoking patio. The performance room sees an eclectic mix of rock\, reggae\, punk\, country & western on any given night.
URL:https://tikibaroc.com/event/bushman/
LOCATION:Tiki Bar\, 1700 Placentia Ave\, Costa Mesa\, CA\, 92627\, United States
ATTACH;FMTTYPE=image/jpeg:https://tikibaroc.com/wp-content/uploads/2017/05/tiki-bar-event-default-image.jpg
ORGANIZER;CN="Tiki Bar":MAILTO:tikibooking@hotmail.com
END:VEVENT
BEGIN:VEVENT
DTSTART;TZID=America/Los_Angeles:20120630T200000
DTEND;TZID=America/Los_Angeles:20120630T200000
DTSTAMP:20260419T205819
CREATED:20170519T105544Z
LAST-MODIFIED:20170519T105544Z
UID:3593-1341086400-1341086400@tikibaroc.com
SUMMARY:XLenceBBW present Xlence Club
DESCRIPTION:Located just minutes from Triangle Square is the Tiki Bar\, a historic Costa Mesa joint that doubles as a music venue. The building is divided into three spacious sections which include a stage\, bar area with two pool tables and a smoking patio. The performance room sees an eclectic mix of rock\, reggae\, punk\, country & western on any given night.
URL:https://tikibaroc.com/event/xlencebbw-present-xlence-club/
LOCATION:Tiki Bar\, 1700 Placentia Ave\, Costa Mesa\, CA\, 92627\, United States
ATTACH;FMTTYPE=image/jpeg:https://tikibaroc.com/wp-content/uploads/2017/05/tiki-bar-event-default-image.jpg
ORGANIZER;CN="Tiki Bar":MAILTO:tikibooking@hotmail.com
END:VEVENT
BEGIN:VEVENT
DTSTART;TZID=America/Los_Angeles:20120629T200000
DTEND;TZID=America/Los_Angeles:20120629T200000
DTSTAMP:20260419T205819
CREATED:20170519T105545Z
LAST-MODIFIED:20170519T105545Z
UID:3594-1341000000-1341000000@tikibaroc.com
SUMMARY:Guttermouth El Centro
DESCRIPTION:Located just minutes from Triangle Square is the Tiki Bar\, a historic Costa Mesa joint that doubles as a music venue. The building is divided into three spacious sections which include a stage\, bar area with two pool tables and a smoking patio. The performance room sees an eclectic mix of rock\, reggae\, punk\, country & western on any given night.
URL:https://tikibaroc.com/event/guttermouth-el-centro-2/
LOCATION:Tiki Bar\, 1700 Placentia Ave\, Costa Mesa\, CA\, 92627\, United States
ATTACH;FMTTYPE=image/jpeg:https://tikibaroc.com/wp-content/uploads/2017/05/tiki-bar-event-default-image.jpg
ORGANIZER;CN="Tiki Bar":MAILTO:tikibooking@hotmail.com
END:VEVENT
BEGIN:VEVENT
DTSTART;TZID=America/Los_Angeles:20120628T200000
DTEND;TZID=America/Los_Angeles:20120628T200000
DTSTAMP:20260419T205819
CREATED:20170519T105545Z
LAST-MODIFIED:20170519T105545Z
UID:3595-1340913600-1340913600@tikibaroc.com
SUMMARY:Stak Major
DESCRIPTION:Located just minutes from Triangle Square is the Tiki Bar\, a historic Costa Mesa joint that doubles as a music venue. The building is divided into three spacious sections which include a stage\, bar area with two pool tables and a smoking patio. The performance room sees an eclectic mix of rock\, reggae\, punk\, country & western on any given night.
URL:https://tikibaroc.com/event/stak-major/
LOCATION:Tiki Bar\, 1700 Placentia Ave\, Costa Mesa\, CA\, 92627\, United States
ATTACH;FMTTYPE=image/jpeg:https://tikibaroc.com/wp-content/uploads/2017/05/tiki-bar-event-default-image.jpg
ORGANIZER;CN="Tiki Bar":MAILTO:tikibooking@hotmail.com
END:VEVENT
BEGIN:VEVENT
DTSTART;TZID=America/Los_Angeles:20120624T140000
DTEND;TZID=America/Los_Angeles:20120624T140000
DTSTAMP:20260419T205819
CREATED:20170519T105545Z
LAST-MODIFIED:20170519T105545Z
UID:3596-1340546400-1340546400@tikibaroc.com
SUMMARY:Blues show with Lynwood Slim
DESCRIPTION:Located just minutes from Triangle Square is the Tiki Bar\, a historic Costa Mesa joint that doubles as a music venue. The building is divided into three spacious sections which include a stage\, bar area with two pool tables and a smoking patio. The performance room sees an eclectic mix of rock\, reggae\, punk\, country & western on any given night.
URL:https://tikibaroc.com/event/blues-show-with-lynwood-slim/
LOCATION:Tiki Bar\, 1700 Placentia Ave\, Costa Mesa\, CA\, 92627\, United States
ATTACH;FMTTYPE=image/jpeg:https://tikibaroc.com/wp-content/uploads/2017/05/tiki-bar-event-default-image.jpg
ORGANIZER;CN="Tiki Bar":MAILTO:tikibooking@hotmail.com
END:VEVENT
BEGIN:VEVENT
DTSTART;TZID=America/Los_Angeles:20120623T200000
DTEND;TZID=America/Los_Angeles:20120623T200000
DTSTAMP:20260419T205819
CREATED:20170519T105547Z
LAST-MODIFIED:20170519T105547Z
UID:3597-1340481600-1340481600@tikibaroc.com
SUMMARY:Cornfed Project
DESCRIPTION:Located just minutes from Triangle Square is the Tiki Bar\, a historic Costa Mesa joint that doubles as a music venue. The building is divided into three spacious sections which include a stage\, bar area with two pool tables and a smoking patio. The performance room sees an eclectic mix of rock\, reggae\, punk\, country & western on any given night.
URL:https://tikibaroc.com/event/cornfed-project/
LOCATION:Tiki Bar\, 1700 Placentia Ave\, Costa Mesa\, CA\, 92627\, United States
ATTACH;FMTTYPE=image/jpeg:https://tikibaroc.com/wp-content/uploads/2017/05/tiki-bar-event-default-image.jpg
ORGANIZER;CN="Tiki Bar":MAILTO:tikibooking@hotmail.com
END:VEVENT
BEGIN:VEVENT
DTSTART;TZID=America/Los_Angeles:20120622T200000
DTEND;TZID=America/Los_Angeles:20120622T200000
DTSTAMP:20260419T205819
CREATED:20170519T105548Z
LAST-MODIFIED:20170519T105548Z
UID:3598-1340395200-1340395200@tikibaroc.com
SUMMARY:The Pushers The Crowd
DESCRIPTION:Located just minutes from Triangle Square is the Tiki Bar\, a historic Costa Mesa joint that doubles as a music venue. The building is divided into three spacious sections which include a stage\, bar area with two pool tables and a smoking patio. The performance room sees an eclectic mix of rock\, reggae\, punk\, country & western on any given night.
URL:https://tikibaroc.com/event/the-pushers-the-crowd/
LOCATION:Tiki Bar\, 1700 Placentia Ave\, Costa Mesa\, CA\, 92627\, United States
ATTACH;FMTTYPE=image/jpeg:https://tikibaroc.com/wp-content/uploads/2017/05/tiki-bar-event-default-image.jpg
ORGANIZER;CN="Tiki Bar":MAILTO:tikibooking@hotmail.com
END:VEVENT
BEGIN:VEVENT
DTSTART;TZID=America/Los_Angeles:20120621T200000
DTEND;TZID=America/Los_Angeles:20120621T200000
DTSTAMP:20260419T205819
CREATED:20170519T105548Z
LAST-MODIFIED:20170519T105548Z
UID:3599-1340308800-1340308800@tikibaroc.com
SUMMARY:No More Heroes
DESCRIPTION:Located just minutes from Triangle Square is the Tiki Bar\, a historic Costa Mesa joint that doubles as a music venue. The building is divided into three spacious sections which include a stage\, bar area with two pool tables and a smoking patio. The performance room sees an eclectic mix of rock\, reggae\, punk\, country & western on any given night.
URL:https://tikibaroc.com/event/no-more-heroes/
LOCATION:Tiki Bar\, 1700 Placentia Ave\, Costa Mesa\, CA\, 92627\, United States
ATTACH;FMTTYPE=image/jpeg:https://tikibaroc.com/wp-content/uploads/2017/05/tiki-bar-event-default-image.jpg
ORGANIZER;CN="Tiki Bar":MAILTO:tikibooking@hotmail.com
END:VEVENT
BEGIN:VEVENT
DTSTART;TZID=America/Los_Angeles:20120619T200000
DTEND;TZID=America/Los_Angeles:20120619T200000
DTSTAMP:20260419T205819
CREATED:20170519T105548Z
LAST-MODIFIED:20170519T105548Z
UID:3600-1340136000-1340136000@tikibaroc.com
SUMMARY:Mighty Majestics
DESCRIPTION:Located just minutes from Triangle Square is the Tiki Bar\, a historic Costa Mesa joint that doubles as a music venue. The building is divided into three spacious sections which include a stage\, bar area with two pool tables and a smoking patio. The performance room sees an eclectic mix of rock\, reggae\, punk\, country & western on any given night.
URL:https://tikibaroc.com/event/mighty-majestics-5/
LOCATION:Tiki Bar\, 1700 Placentia Ave\, Costa Mesa\, CA\, 92627\, United States
ATTACH;FMTTYPE=image/jpeg:https://tikibaroc.com/wp-content/uploads/2017/05/tiki-bar-event-default-image.jpg
ORGANIZER;CN="Tiki Bar":MAILTO:tikibooking@hotmail.com
END:VEVENT
BEGIN:VEVENT
DTSTART;TZID=America/Los_Angeles:20120616T200000
DTEND;TZID=America/Los_Angeles:20120616T200000
DTSTAMP:20260419T205819
CREATED:20170519T105549Z
LAST-MODIFIED:20170519T105549Z
UID:3601-1339876800-1339876800@tikibaroc.com
SUMMARY:Yeastie Boys Gum Fighters
DESCRIPTION:Located just minutes from Triangle Square is the Tiki Bar\, a historic Costa Mesa joint that doubles as a music venue. The building is divided into three spacious sections which include a stage\, bar area with two pool tables and a smoking patio. The performance room sees an eclectic mix of rock\, reggae\, punk\, country & western on any given night.
URL:https://tikibaroc.com/event/yeastie-boys-gum-fighters/
LOCATION:Tiki Bar\, 1700 Placentia Ave\, Costa Mesa\, CA\, 92627\, United States
ATTACH;FMTTYPE=image/jpeg:https://tikibaroc.com/wp-content/uploads/2017/05/tiki-bar-event-default-image.jpg
ORGANIZER;CN="Tiki Bar":MAILTO:tikibooking@hotmail.com
END:VEVENT
END:VCALENDAR