BEGIN:VCALENDAR
VERSION:2.0
PRODID:-//TIKI BAR - ECPv6.15.17.1//NONSGML v1.0//EN
CALSCALE:GREGORIAN
METHOD:PUBLISH
X-WR-CALNAME:TIKI BAR
X-ORIGINAL-URL:https://tikibaroc.com
X-WR-CALDESC:Events for TIKI BAR
REFRESH-INTERVAL;VALUE=DURATION:PT1H
X-Robots-Tag:noindex
X-PUBLISHED-TTL:PT1H
BEGIN:VTIMEZONE
TZID:America/Los_Angeles
BEGIN:DAYLIGHT
TZOFFSETFROM:-0800
TZOFFSETTO:-0700
TZNAME:PDT
DTSTART:20240310T100000
END:DAYLIGHT
BEGIN:STANDARD
TZOFFSETFROM:-0700
TZOFFSETTO:-0800
TZNAME:PST
DTSTART:20241103T090000
END:STANDARD
BEGIN:DAYLIGHT
TZOFFSETFROM:-0800
TZOFFSETTO:-0700
TZNAME:PDT
DTSTART:20250309T100000
END:DAYLIGHT
BEGIN:STANDARD
TZOFFSETFROM:-0700
TZOFFSETTO:-0800
TZNAME:PST
DTSTART:20251102T090000
END:STANDARD
BEGIN:DAYLIGHT
TZOFFSETFROM:-0800
TZOFFSETTO:-0700
TZNAME:PDT
DTSTART:20260308T100000
END:DAYLIGHT
BEGIN:STANDARD
TZOFFSETFROM:-0700
TZOFFSETTO:-0800
TZNAME:PST
DTSTART:20261101T090000
END:STANDARD
END:VTIMEZONE
BEGIN:VEVENT
DTSTART;TZID=America/Los_Angeles:20251101T190000
DTEND;TZID=America/Los_Angeles:20251101T190000
DTSTAMP:20260419T090507
CREATED:20251011T152548Z
LAST-MODIFIED:20251011T152548Z
UID:7295-1762023600-1762023600@tikibaroc.com
SUMMARY:Dead Space Revival
DESCRIPTION:
URL:https://tikibaroc.com/event/dead-space-revival/
LOCATION:Tiki Bar\, 1700 Placentia Ave\, Costa Mesa\, CA\, 92627\, United States
ATTACH;FMTTYPE=image/jpeg:https://tikibaroc.com/wp-content/uploads/2025/10/nov1stlfyer.jpg
END:VEVENT
BEGIN:VEVENT
DTSTART;TZID=America/Los_Angeles:20251106T190000
DTEND;TZID=America/Los_Angeles:20251106T190000
DTSTAMP:20260419T090507
CREATED:20250909T212034Z
LAST-MODIFIED:20251101T211800Z
UID:7255-1762455600-1762455600@tikibaroc.com
SUMMARY:Drivin the Bus
DESCRIPTION:
URL:https://tikibaroc.com/event/driving-the-bus/
LOCATION:Tiki Bar\, 1700 Placentia Ave\, Costa Mesa\, CA\, 92627\, United States
ATTACH;FMTTYPE=image/png:https://tikibaroc.com/wp-content/uploads/2025/09/nov.6thflyer.png
END:VEVENT
BEGIN:VEVENT
DTSTART;TZID=America/Los_Angeles:20251107T190000
DTEND;TZID=America/Los_Angeles:20251107T190000
DTSTAMP:20260419T090507
CREATED:20251009T164753Z
LAST-MODIFIED:20251009T164753Z
UID:7285-1762542000-1762542000@tikibaroc.com
SUMMARY:Pato Banton
DESCRIPTION:With “Special Guests”
URL:https://tikibaroc.com/event/pato-banton-8/
LOCATION:Tiki Bar\, 1700 Placentia Ave\, Costa Mesa\, CA\, 92627\, United States
ATTACH;FMTTYPE=image/jpeg:https://tikibaroc.com/wp-content/uploads/2025/10/nov.7thflyer.jpg
END:VEVENT
BEGIN:VEVENT
DTSTART;TZID=America/Los_Angeles:20251108T190000
DTEND;TZID=America/Los_Angeles:20251108T190000
DTSTAMP:20260419T090507
CREATED:20251003T151702Z
LAST-MODIFIED:20251003T151702Z
UID:7276-1762628400-1762628400@tikibaroc.com
SUMMARY:Fake Matthews Band
DESCRIPTION:
URL:https://tikibaroc.com/event/fake-matthews-band-2/
LOCATION:Tiki Bar\, 1700 Placentia Ave\, Costa Mesa\, CA\, 92627\, United States
ATTACH;FMTTYPE=image/jpeg:https://tikibaroc.com/wp-content/uploads/2025/10/nov.8thflyer.jpg
END:VEVENT
BEGIN:VEVENT
DTSTART;TZID=America/Los_Angeles:20251112T190000
DTEND;TZID=America/Los_Angeles:20251112T190000
DTSTAMP:20260419T090507
CREATED:20251030T155042Z
LAST-MODIFIED:20251030T155042Z
UID:7327-1762974000-1762974000@tikibaroc.com
SUMMARY:Steele
DESCRIPTION:
URL:https://tikibaroc.com/event/steele/
LOCATION:Tiki Bar\, 1700 Placentia Ave\, Costa Mesa\, CA\, 92627\, United States
ATTACH;FMTTYPE=image/jpeg:https://tikibaroc.com/wp-content/uploads/2025/10/nov12thflyer.jpg
END:VEVENT
BEGIN:VEVENT
DTSTART;TZID=America/Los_Angeles:20251114T190000
DTEND;TZID=America/Los_Angeles:20251114T190000
DTSTAMP:20260419T090507
CREATED:20251010T162016Z
LAST-MODIFIED:20251015T181009Z
UID:7288-1763146800-1763146800@tikibaroc.com
SUMMARY:Oasis-ish
DESCRIPTION:A tribute to Oasis
URL:https://tikibaroc.com/event/supersonics/
LOCATION:Tiki Bar\, 1700 Placentia Ave\, Costa Mesa\, CA\, 92627\, United States
ATTACH;FMTTYPE=image/png:https://tikibaroc.com/wp-content/uploads/2025/10/nov.14thflyer-1.png
END:VEVENT
BEGIN:VEVENT
DTSTART;TZID=America/Los_Angeles:20251115T190000
DTEND;TZID=America/Los_Angeles:20251115T190000
DTSTAMP:20260419T090507
CREATED:20251010T154431Z
LAST-MODIFIED:20251011T082035Z
UID:7287-1763233200-1763233200@tikibaroc.com
SUMMARY:Mojo Risin’
DESCRIPTION:
URL:https://tikibaroc.com/event/mojo-risin/
LOCATION:Tiki Bar\, 1700 Placentia Ave\, Costa Mesa\, CA\, 92627\, United States
ATTACH;FMTTYPE=image/jpeg:https://tikibaroc.com/wp-content/uploads/2025/10/nov.15thflyer.jpg
END:VEVENT
BEGIN:VEVENT
DTSTART;TZID=America/Los_Angeles:20251120T190000
DTEND;TZID=America/Los_Angeles:20251120T190000
DTSTAMP:20260419T090507
CREATED:20251013T163516Z
LAST-MODIFIED:20251014T222609Z
UID:7299-1763665200-1763665200@tikibaroc.com
SUMMARY:Nice and Swell
DESCRIPTION:
URL:https://tikibaroc.com/event/nice-and-swell/
LOCATION:Tiki Bar\, 1700 Placentia Ave\, Costa Mesa\, CA\, 92627\, United States
ATTACH;FMTTYPE=image/png:https://tikibaroc.com/wp-content/uploads/2025/10/nov.20thflyer.png
END:VEVENT
BEGIN:VEVENT
DTSTART;TZID=America/Los_Angeles:20251121T190000
DTEND;TZID=America/Los_Angeles:20251121T190000
DTSTAMP:20260419T090507
CREATED:20251004T222710Z
LAST-MODIFIED:20251011T001850Z
UID:7284-1763751600-1763751600@tikibaroc.com
SUMMARY:Velicious
DESCRIPTION:
URL:https://tikibaroc.com/event/velicious-14/
LOCATION:Tiki Bar\, 1700 Placentia Ave\, Costa Mesa\, CA\, 92627\, United States
ATTACH;FMTTYPE=image/jpeg:https://tikibaroc.com/wp-content/uploads/2025/10/nov.21stflyer.jpg
END:VEVENT
BEGIN:VEVENT
DTSTART;TZID=America/Los_Angeles:20251122T190000
DTEND;TZID=America/Los_Angeles:20251122T190000
DTSTAMP:20260419T090507
CREATED:20251025T153021Z
LAST-MODIFIED:20251105T192947Z
UID:7312-1763838000-1763838000@tikibaroc.com
SUMMARY:The Grabbers and Throw Rag
DESCRIPTION:
URL:https://tikibaroc.com/event/the-grabbers-and-special-guests/
LOCATION:Tiki Bar\, 1700 Placentia Ave\, Costa Mesa\, CA\, 92627\, United States
ATTACH;FMTTYPE=image/jpeg:https://tikibaroc.com/wp-content/uploads/2025/10/nov22.jpg
END:VEVENT
BEGIN:VEVENT
DTSTART;TZID=America/Los_Angeles:20251126T190000
DTEND;TZID=America/Los_Angeles:20251126T190000
DTSTAMP:20260419T090507
CREATED:20251028T163337Z
LAST-MODIFIED:20251111T191656Z
UID:7322-1764183600-1764183600@tikibaroc.com
SUMMARY:Ten Mile Tongue
DESCRIPTION:Live music from Ten Mile Tongue and Neighbors by Chance
URL:https://tikibaroc.com/event/ten-mile-tongue-3/
LOCATION:Tiki Bar\, 1700 Placentia Ave\, Costa Mesa\, CA\, 92627\, United States
ATTACH;FMTTYPE=image/jpeg:https://tikibaroc.com/wp-content/uploads/2025/10/nov26th.jpg
END:VEVENT
BEGIN:VEVENT
DTSTART;TZID=America/Los_Angeles:20251128T190000
DTEND;TZID=America/Los_Angeles:20251128T190000
DTSTAMP:20260419T090507
CREATED:20251015T165201Z
LAST-MODIFIED:20251113T162655Z
UID:7304-1764356400-1764356400@tikibaroc.com
SUMMARY:Jack Trippers
DESCRIPTION:
URL:https://tikibaroc.com/event/dirty-hammer-3/
LOCATION:Tiki Bar\, 1700 Placentia Ave\, Costa Mesa\, CA\, 92627\, United States
ATTACH;FMTTYPE=image/jpeg:https://tikibaroc.com/wp-content/uploads/2025/10/nov28thflyer-3.jpg
END:VEVENT
BEGIN:VEVENT
DTSTART;TZID=America/Los_Angeles:20251129T190000
DTEND;TZID=America/Los_Angeles:20251129T190000
DTSTAMP:20260419T090507
CREATED:20251030T172604Z
LAST-MODIFIED:20251110T153522Z
UID:7330-1764442800-1764442800@tikibaroc.com
SUMMARY:Rawnsley
DESCRIPTION:Live music from Rawnsley and Tomorrows Anthem
URL:https://tikibaroc.com/event/rawnsley-8/
LOCATION:Tiki Bar\, 1700 Placentia Ave\, Costa Mesa\, CA\, 92627\, United States
ATTACH;FMTTYPE=image/jpeg:https://tikibaroc.com/wp-content/uploads/2025/10/nov29thfl.jpg
END:VEVENT
END:VCALENDAR